BEGIN:VCALENDAR
VERSION:2.0
PRODID:-//ChurchDev//Events//EN
CALSCALE:GREGORIAN
METHOD:PUBLISH
BEGIN:VEVENT
UID:4044-20260405@www.loglcms.org
SUMMARY:Easter Sunday Breakfast
DTSTART:20260405T163000Z
DTEND:20260405T183000Z
DESCRIPTION:Join us for a Free Breakfast! Sausage\, Bacon\, Scrambled Eggs\, Pancakes\, and more!\\n\\nhttps://www.loglcms.org/events/easter-sunday-breakfast/
URL:https://www.loglcms.org/events/easter-sunday-breakfast/
DTSTAMP:20260419T205953Z
END:VEVENT
END:VCALENDAR
